BEGIN:VCALENDAR
VERSION:2.0
PRODID:icalendar-ruby
CALSCALE:GREGORIAN
METHOD:PUBLISH
BEGIN:VEVENT
DTSTAMP:20260421T141712Z
UID:ececa2bd-5072-40ef-b8cf-d07ee313e7fb
DTSTART:20260522T140000
DTEND:20260524T120000
DESCRIPTION:<h1 class="ql-align-center"><span style="color: rgb(24\, 1\, 1)
 \;">About the Trail</span></h1><p class="ql-align-center"><br></p><p><span
  style="color: rgb(14\, 1\, 1)\;">Set along the majestic Tugela River\, th
 e Zingela Trail Run invites you to explore one of South Africa’s most br
 eathtaking and unspoiled landscapes. Winding through valley thornveld and 
 along ancient game paths\, this is more than a run — it’s an immersive
  bushveld adventure.</span></p><p><span style="color: rgb(14\, 1\, 1)\;">F
 rom cliff-top trails to serene riverbanks\, every step offers a new perspe
 ctive and a fresh sense of discovery. Whether you're a seasoned trail runn
 er chasing a new challenge or simply looking to experience the wild on foo
 t\, our routes are designed to inspire runners of all levels.</span></p><p
 ><span style="color: rgb(14\, 1\, 1)\;">Expect crystal-clear days and cool
 \, refreshing mornings — the kind of weather that makes you want to move
 . Wildlife sightings are almost guaranteed\, with giraffe\, kudu\, nyala\,
  wildebeest\, warthog\, and even ostrich making appearances along the way.
 </span></p><p><span style="color: rgb(14\, 1\, 1)\;">The terrain is rugged
  but rewarding: rolling\, rocky single tracks woven between towering aloes
  and thorny acacias\, with views that make you pause (even if just to catc
 h your breath). It’s the perfect blend of challenge and awe\, set during
  the most magical time of year in the African bush.</span></p><p><span sty
 le="color: rgb(14\, 1\, 1)\;">An exciting new dimension to the Zingela Tra
 il Run is a fun paddle across the Tugela River to explore new trails on th
 e other side.</span></p><p><span style="color: rgb(14\, 1\, 1)\;">Come for
  the run — leave with a memory that lasts long after the dust settles.</
 span></p><p class="ql-align-center"><br></p><h3 class="ql-align-center"><s
 trong style="color: rgb(0\, 0\, 0)\;">The Hippo Run – A Wild Trail Adven
 ture for Kids!</strong></h3><p><strong style="color: rgb(36\, 0\, 0)\;">Di
 stance:</strong><span style="color: rgb(36\, 0\, 0)\;"> 4km </span><stron
 g style="color: rgb(36\, 0\, 0)\;">Start time:</strong><span style="color:
  rgb(36\, 0\, 0)\;"> 8:00am</span></p><p><span style="color: rgb(36\, 0\,
  0)\;">While the adults are out tackling the trails\, the little ones can 
 have an unforgettable morning of their own with the </span><strong style=
 "color: rgb(36\, 0\, 0)\;">Hippo Run</strong><span style="color: rgb(36\, 
 0\, 0)\;"> — a fun\, safe\, and exciting 4km trail run designed especia
 lly for kids aged 5 and up.</span></p><p><span style="color: rgb(36\, 0\, 
 0)\;">This playful route loops around the iconic "Hippo" koppie\, offering
  just enough challenge to feel like a real adventure\, without being too t
 ough for little legs. Along the way\, kids will enjoy scenic bushveld path
 s and </span></p><p><span style="color: rgb(36\, 0\, 0)\;">Parents can hi
 t the trails worry-free\, knowing their kids are in good hands. The Hippo 
 Run is supervised\, and your youngsters will be kept active\, entertained
 \, and outdoors right up until lunchtime.</span></p><p><span style="color:
  rgb(36\, 0\, 0)\;">It’s the perfect way to share the spirit of trail ru
 nning with the next generation — and give them a morning they’ll be ta
 lking about all weekend.</span></p>
LOCATION:Colenso
SUMMARY:Zingela Trail Run 2026
URL;VALUE=URI:https://zingela.howler.co.za/zingelatrailrun26
END:VEVENT
END:VCALENDAR
